Workbook
Name JR_PAGE_ANCHOR_0_1: rpt_kongnew!$B$1

Sheet rpt_kongnew
B2: 2026年第三季度帮扶小额信贷贴息明细
A3: 序号 | B3: 乡镇 | C3: 村 | D3: 贷款人姓名 | E3: 贷款银行类别 | F3: 贷款银行详细名称 | G3: 贷款金额(元) | H3: 借款日 | I3: 到期日 | J3: 贴息利率(%) | K3: 应贴息金额（元） | L3: 备注
A4: 1 | B4: 河北镇 | C4: 河北 | D4: 吴富民 | E4: 农村商业银行 | F4: 阳城农商银行河北支行 | G4: 50000 | H4: 20260724 | I4: 20270723 | J4: 3 | K4: =_xlfn.XLOOKUP(D4,[1]xx归属主体xxxx年x周期第x批次帮扶小额信贷补贴发放明细表!$A:$A,[1]xx归属主体xxxx年x周期第x批次帮扶小额信贷补贴发放明细表!$M:$M) -> 245.84 | L4: =_xlfn.XLOOKUP(D4,[1]xx归属主体xxxx年x周期第x批次帮扶小额信贷补贴发放明细表!$A:$A,[1]xx归属主体xxxx年x周期第x批次帮扶小额信贷补贴发放明细表!$X:$X) -> 7月24日至9月21日利息
A5: 2 | B5: 河北镇 | C5: 坪泉 | D5: 都张胜 | E5: 农村商业银行 | F5: 阳城农商银行河北支行 | G5: 50000 | H5: 20260914 | I5: 20270913 | J5: 3 | K5: =_xlfn.XLOOKUP(D5,[1]xx归属主体xxxx年x周期第x批次帮扶小额信贷补贴发放明细表!$A:$A,[1]xx归属主体xxxx年x周期第x批次帮扶小额信贷补贴发放明细表!$M:$M) -> 29.17 | L5: =_xlfn.XLOOKUP(D5,[1]xx归属主体xxxx年x周期第x批次帮扶小额信贷补贴发放明细表!$A:$A,[1]xx归属主体xxxx年x周期第x批次帮扶小额信贷补贴发放明细表!$X:$X) -> 9月14日至9月21日利息
A6: 3 | B6: 河北镇 | C6: 史家岭 | D6: 史国红 | E6: 农村商业银行 | F6: 阳城农商银行河北支行 | G6: 50000 | H6: 20260824 | I6: 20270823 | J6: 3 | K6: =_xlfn.XLOOKUP(D6,[1]xx归属主体xxxx年x周期第x批次帮扶小额信贷补贴发放明细表!$A:$A,[1]xx归属主体xxxx年x周期第x批次帮扶小额信贷补贴发放明细表!$M:$M) -> 116.67 | L6: =_xlfn.XLOOKUP(D6,[1]xx归属主体xxxx年x周期第x批次帮扶小额信贷补贴发放明细表!$A:$A,[1]xx归属主体xxxx年x周期第x批次帮扶小额信贷补贴发放明细表!$X:$X) -> 8月24日至9月21日利息
A7: 4 | B7: 河北镇 | C7: 史家岭 | D7: 吴红兴 | E7: 农村商业银行 | F7: 阳城农商银行河北支行 | G7: 50000 | H7: 20260915 | I7: 20270914 | J7: 3 | K7: =_xlfn.XLOOKUP(D7,[1]xx归属主体xxxx年x周期第x批次帮扶小额信贷补贴发放明细表!$A:$A,[1]xx归属主体xxxx年x周期第x批次帮扶小额信贷补贴发放明细表!$M:$M) -> 25 | L7: =_xlfn.XLOOKUP(D7,[1]xx归属主体xxxx年x周期第x批次帮扶小额信贷补贴发放明细表!$A:$A,[1]xx归属主体xxxx年x周期第x批次帮扶小额信贷补贴发放明细表!$X:$X) -> 9月15日至9月21日利息
A8: 5 | B8: 河北镇 | C8: 南梁 | D8: 杨军社 | E8: 农村商业银行 | F8: 阳城农商银行河北支行 | G8: 50000 | H8: 20260901 | I8: 20270831 | J8: 3 | K8: =_xlfn.XLOOKUP(D8,[1]xx归属主体xxxx年x周期第x批次帮扶小额信贷补贴发放明细表!$A:$A,[1]xx归属主体xxxx年x周期第x批次帮扶小额信贷补贴发放明细表!$M:$M) -> 83.33 | L8: =_xlfn.XLOOKUP(D8,[1]xx归属主体xxxx年x周期第x批次帮扶小额信贷补贴发放明细表!$A:$A,[1]xx归属主体xxxx年x周期第x批次帮扶小额信贷补贴发放明细表!$X:$X) -> 9月1日至9月21日利息
A9: 6 | B9: 河北镇 | C9: 南梁 | D9: 赵学社 | E9: 农村商业银行 | F9: 阳城农商银行河北支行 | G9: 50000 | H9: 20260914 | I9: 20270913 | J9: 3 | K9: =_xlfn.XLOOKUP(D9,[1]xx归属主体xxxx年x周期第x批次帮扶小额信贷补贴发放明细表!$A:$A,[1]xx归属主体xxxx年x周期第x批次帮扶小额信贷补贴发放明细表!$M:$M) -> 29.17 | L9: =_xlfn.XLOOKUP(D9,[1]xx归属主体xxxx年x周期第x批次帮扶小额信贷补贴发放明细表!$A:$A,[1]xx归属主体xxxx年x周期第x批次帮扶小额信贷补贴发放明细表!$X:$X) -> 9月14日至9月21日利息
A10: 7 | B10: 河北镇 | C10: 南梁 | D10: 闫王社 | E10: 农村商业银行 | F10: 阳城农商银行河北支行 | G10: 50000 | H10: 20260915 | I10: 20270914 | J10: 3 | K10: =_xlfn.XLOOKUP(D10,[1]xx归属主体xxxx年x周期第x批次帮扶小额信贷补贴发放明细表!$A:$A,[1]xx归属主体xxxx年x周期第x批次帮扶小额信贷补贴发放明细表!$M:$M) -> 25 | L10: =_xlfn.XLOOKUP(D10,[1]xx归属主体xxxx年x周期第x批次帮扶小额信贷补贴发放明细表!$A:$A,[1]xx归属主体xxxx年x周期第x批次帮扶小额信贷补贴发放明细表!$X:$X) -> 9月15日至9月21日利息
A11: 8 | B11: 河北镇 | C11: 土孟 | D11: 杨文会 | E11: 农村商业银行 | F11: 阳城农商银行河北支行 | G11: 50000 | H11: 20260730 | I11: 20270729 | J11: 3 | K11: =_xlfn.XLOOKUP(D11,[1]xx归属主体xxxx年x周期第x批次帮扶小额信贷补贴发放明细表!$A:$A,[1]xx归属主体xxxx年x周期第x批次帮扶小额信贷补贴发放明细表!$M:$M) -> 220.84 | L11: =_xlfn.XLOOKUP(D11,[1]xx归属主体xxxx年x周期第x批次帮扶小额信贷补贴发放明细表!$A:$A,[1]xx归属主体xxxx年x周期第x批次帮扶小额信贷补贴发放明细表!$X:$X) -> 7月30日至9月21日利息
A12: 9 | B12: 河北镇 | C12: 土孟 | D12: 栗军龙 | E12: 农村商业银行 | F12: 阳城农商银行河北支行 | G12: 50000 | H12: 20260807 | I12: 20270806 | J12: 3 | K12: =_xlfn.XLOOKUP(D12,[1]xx归属主体xxxx年x周期第x批次帮扶小额信贷补贴发放明细表!$A:$A,[1]xx归属主体xxxx年x周期第x批次帮扶小额信贷补贴发放明细表!$M:$M) -> 187.5 | L12: =_xlfn.XLOOKUP(D12,[1]xx归属主体xxxx年x周期第x批次帮扶小额信贷补贴发放明细表!$A:$A,[1]xx归属主体xxxx年x周期第x批次帮扶小额信贷补贴发放明细表!$X:$X) -> 8月7日至9月21日利息
A13: 10 | B13: 河北镇 | C13: 土孟 | D13: 潘小兴 | E13: 农村商业银行 | F13: 阳城农商银行河北支行 | G13: 50000 | H13: 20260820 | I13: 20270819 | J13: 3 | K13: =_xlfn.XLOOKUP(D13,[1]xx归属主体xxxx年x周期第x批次帮扶小额信贷补贴发放明细表!$A:$A,[1]xx归属主体xxxx年x周期第x批次帮扶小额信贷补贴发放明细表!$M:$M) -> 133.34 | L13: =_xlfn.XLOOKUP(D13,[1]xx归属主体xxxx年x周期第x批次帮扶小额信贷补贴发放明细表!$A:$A,[1]xx归属主体xxxx年x周期第x批次帮扶小额信贷补贴发放明细表!$X:$X) -> 8月20日至9月21日利息
A14: 11 | B14: 河北镇 | C14: 土孟 | D14: 白新社 | E14: 农村商业银行 | F14: 阳城农商银行河北支行 | G14: 50000 | H14: 20260824 | I14: 20270823 | J14: 3 | K14: =_xlfn.XLOOKUP(D14,[1]xx归属主体xxxx年x周期第x批次帮扶小额信贷补贴发放明细表!$A:$A,[1]xx归属主体xxxx年x周期第x批次帮扶小额信贷补贴发放明细表!$M:$M) -> 116.67 | L14: =_xlfn.XLOOKUP(D14,[1]xx归属主体xxxx年x周期第x批次帮扶小额信贷补贴发放明细表!$A:$A,[1]xx归属主体xxxx年x周期第x批次帮扶小额信贷补贴发放明细表!$X:$X) -> 8月24日至9月21日利息
A15: 12 | B15: 河北镇 | C15: 土孟 | D15: 原小霞 | E15: 农村商业银行 | F15: 阳城农商银行河北支行 | G15: 50000 | H15: 20260914 | I15: 20270913 | J15: 3 | K15: =_xlfn.XLOOKUP(D15,[1]xx归属主体xxxx年x周期第x批次帮扶小额信贷补贴发放明细表!$A:$A,[1]xx归属主体xxxx年x周期第x批次帮扶小额信贷补贴发放明细表!$M:$M) -> 29.17 | L15: =_xlfn.XLOOKUP(D15,[1]xx归属主体xxxx年x周期第x批次帮扶小额信贷补贴发放明细表!$A:$A,[1]xx归属主体xxxx年x周期第x批次帮扶小额信贷补贴发放明细表!$X:$X) -> 9月14日至9月21日利息
... A37: 34 | B37: 润城镇 | C37: 润城 | D37: 栗王军 | E37: 农村商业银行 | F37: 阳城农商银行润城支行 | G37: 50000 | H37: 20260521 | I37: 20270520 | J37: 3 | K37: =_xlfn.XLOOKUP(D37,[1]xx归属主体xxxx年x周期第x批次帮扶小额信贷补贴发放明细表!$A:$A,[1]xx归属主体xxxx年x周期第x批次帮扶小额信贷补贴发放明细表!$M:$M) -> 512.51 | L37: =_xlfn.XLOOKUP(D37,[1]xx归属主体xxxx年x周期第x批次帮扶小额信贷补贴发放明细表!$A:$A,[1]xx归属主体xxxx年x周期第x批次帮扶小额信贷补贴发放明细表!$X:$X) -> 5月21日至9月21日利息
A38: 35 | B38: 北留镇 | C38: 崇上村 | D38: 秦中路 | E38: 农业银行 | F38: 中国农业银行股份有限公司阳城县支行 | G38: 100000 | H38: 20260909 | I38: 20270908 | J38: 3 | K38: 85 | L38: 2026年9月9日至2026年9月20日利息
A39: 36 | B39: 北留镇 | C39: 崇上村 | D39: 秦雷斌 | E39: 农业银行 | F39: 中国农业银行股份有限公司阳城县支行 | G39: 100000 | H39: 20260915 | I39: 20270914 | J39: 3 | K39: 42.5 | L39: 2026年9月15日至2026年9月20日利息
A40: 37 | B40: 北留镇 | C40: 南庄村 | D40: 张锡田 | E40: 农业银行 | F40: 中国农业银行股份有限公司阳城县支行 | G40: 50000 | H40: 20260918 | I40: 20270917 | J40: 3 | K40: 12.5 | L40: 2026年9月18日至2026年9月20日利息
A41: 38 | B41: 北留镇 | C41: 南庄村 | D41: 杨江龙 | E41: 农业银行 | F41: 中国农业银行股份有限公司阳城县支行 | G41: 50000 | H41: 20260918 | I41: 20270917 | J41: 3 | K41: 12.5 | L41: 2026年9月18日至2026年9月20日利息
A42: 39 | B42: 董封乡 | C42: 上河 | D42: 任新社 | E42: 农业银行 | F42: 中国农业银行股份有限公司阳城县支行 | G42: 50000 | H42: 20260917 | I42: 20270915 | J42: 3 | K42: 16.67 | L42: 2026年9月17日至2026年9月20日利息
A43: 40 | B43: 蟒河镇 | C43: 西峪 | D43: 张小粉 | E43: 农业银行 | F43: 中国农业银行股份有限公司阳城县支行 | G43: 50000 | H43: 20260918 | I43: 20270910 | J43: 3 | K43: 12.5 | L43: 2026年9月18日至2026年9月20日利息
A44: 41 | B44: 蟒河镇 | C44: 西峪 | D44: 张红军 | E44: 农业银行 | F44: 中国农业银行股份有限公司阳城县支行 | G44: 50000 | H44: 20260918 | I44: 20270910 | J44: 3 | K44: 12.5 | L44: 2026年9月18日至2026年9月20日利息
A45: 42 | B45: 蟒河镇 | C45: 西峪 | D45: 杨二鹏 | E45: 农业银行 | F45: 中国农业银行股份有限公司阳城县支行 | G45: 50000 | H45: 20260915 | I45: 20270910 | J45: 3 | K45: 25 | L45: 2026年9月15日至2026年9月20日利息
A46: 43 | B46: 凤城镇 | C46: 芹安社区 | D46: 王张闹 | E46: 农业银行 | F46: 中国农业银行股份有限公司阳城县支行 | G46: 50000 | H46: 20260918 | I46: 20270915 | J46: 3 | K46: 12.5 | L46: 2026年9月18日至2026年9月20日利息
A47: 44 | B47: 演礼镇 | C47: 新庄 | D47: 冯军龙 | E47: 农业银行 | F47: 中国农业银行股份有限公司阳城县支行 | G47: 50000 | H47: 20260821 | I47: 20270820 | J47: 3 | K47: 129.17 | L47: 2026年8月21日至2026年9月20日利息
B48: 合计 | G48: =SUM(G4:G47) -> 2300000 | K48: =SUM(K4:K47) -> 4973.39
